BEGIN:VCALENDAR
VERSION:2.0
PRODID:-//eventon.com NONSGML v1.0//EN
CALSCALE:GREGORIAN
METHOD:PUBLISH
BEGIN:VEVENT
UID:69e6e7ff99d2a
DTSTAMP:20260421T025911Z
DTSTART:20221014
DTEND:20221015
LOCATION:
SUMMARY:DLD Awareness Day
DESCRIPTION:\nhttps://fremantleldc.wa.edu.au/events/dld-awareness-day-3/
URL:https://fremantleldc.wa.edu.au/events/dld-awareness-day-3/
END:VEVENT
END:VCALENDAR