BEGIN:VCALENDAR
VERSION:2.0
PRODID:-//eventon.com NONSGML v1.0//EN
CALSCALE:GREGORIAN
METHOD:PUBLISH
BEGIN:VEVENT
UID:69e6e9d022273
DTSTAMP:20260421T030656Z
DTSTART:20231020
DTEND:20231021
LOCATION:
SUMMARY:DLD Day
DESCRIPTION:\nhttps://fremantleldc.wa.edu.au/events/dld-day/
URL:https://fremantleldc.wa.edu.au/events/dld-day/
END:VEVENT
END:VCALENDAR